BEGIN:VCALENDAR
VERSION:2.0
PRODID:-//MediaDesign//MediaDesign.at//DE
CALSCALE:GREGORIAN
BEGIN:VEVENT
DTSTART:20240406T150000
DTEND:20240406T160000
LOCATION:3580 Horn
DTSTAMP:20260421T164454
SUMMARY:Lets Walk and Talk
URL;VALUE=URI:https://horn.gv.at
DESCRIPTION:Gesundheitsinitiative 
UID:20260421T164454-20240406T150000-20240406T160000
END:VEVENT
END:VCALENDAR