BEGIN:VCALENDAR
VERSION:2.0
PRODID:-//MediaDesign//MediaDesign.at//DE
CALSCALE:GREGORIAN
BEGIN:VEVENT
DTSTART:20240415T190000
DTEND:20240415T200000
LOCATION:Mold 2\, 3580 Mold
DTSTAMP:20260422T062833
SUMMARY:Wer entscheidet dann
URL;VALUE=URI:https://horn.gv.at
DESCRIPTION:Vortrag
UID:20260422T062833-20240415T190000-20240415T200000
END:VEVENT
END:VCALENDAR