BEGIN:VCALENDAR
VERSION:2.0
PRODID:-//MediaDesign//MediaDesign.at//DE
CALSCALE:GREGORIAN
BEGIN:VEVENT
DTSTART:20240406T090000
DTEND:20240406T100000
LOCATION:Breiteneicherstraße 3\, 3580 Horn
DTSTAMP:20260421T132620
SUMMARY:Flohmarktsammlung
URL;VALUE=URI:https://horn.gv.at
DESCRIPTION:Lions Club Horn
UID:20260421T132620-20240406T090000-20240406T100000
END:VEVENT
END:VCALENDAR