BEGIN:VCALENDAR
VERSION:2.0
PRODID:-//MediaDesign//MediaDesign.at//DE
CALSCALE:GREGORIAN
BEGIN:VEVENT
DTSTART:20240412T183000
DTEND:20240412T193000
LOCATION:Canisiusgasse 1\, 3580 Horn
DTSTAMP:20260422T001828
SUMMARY:Gesund und Fit zu bleiben
URL;VALUE=URI:https://horn.gv.at
DESCRIPTION:kann so einfach sein
UID:20260422T001828-20240412T183000-20240412T193000
END:VEVENT
END:VCALENDAR