BEGIN:VCALENDAR
VERSION:2.0
PRODID:-//MediaDesign//MediaDesign.at//DE
CALSCALE:GREGORIAN
BEGIN:VEVENT
DTSTART:20240418T180000
DTEND:20240418T190000
LOCATION:Wr. Str. 2\, 3580 Horn\, Österreich
DTSTAMP:20260422T110240
SUMMARY:Handlettering Workshop 
URL;VALUE=URI:https://horn.gv.at
DESCRIPTION:Fr Anfnger
UID:20260422T110240-20240418T180000-20240418T190000
END:VEVENT
END:VCALENDAR