BEGIN:VCALENDAR
VERSION:2.0
PRODID:-//MediaDesign//MediaDesign.at//DE
CALSCALE:GREGORIAN
BEGIN:VEVENT
DTSTART:20240417T193000
DTEND:20240417T203000
LOCATION:Thurnhofgasse 14\, 3580 Horn
DTSTAMP:20260422T092915
SUMMARY:Regiegesprch mit Joerg Burger 
URL;VALUE=URI:https://horn.gv.at
DESCRIPTION:Archiv der Zukunft
UID:20260422T092915-20240417T193000-20240417T203000
END:VEVENT
END:VCALENDAR