BEGIN:VCALENDAR
VERSION:2.0
PRODID:-//MediaDesign//MediaDesign.at//DE
CALSCALE:GREGORIAN
BEGIN:VEVENT
DTSTART:20240410T140000
DTEND:20240410T150000
LOCATION:Spitalgasse 10b\, 3580 Horn
DTSTAMP:20260421T210510
SUMMARY:Seniorentreff RK Horn
URL;VALUE=URI:https://horn.gv.at
DESCRIPTION:Herzinfarkt Bluthochdruck
UID:20260421T210510-20240410T140000-20240410T150000
END:VEVENT
END:VCALENDAR