BEGIN:VCALENDAR
VERSION:2.0
PRODID:-//MediaDesign//MediaDesign.at//DE
CALSCALE:GREGORIAN
BEGIN:VEVENT
DTSTART:20240410T090000
DTEND:20240410T100000
LOCATION:Stadtgemeinde Horn
DTSTAMP:20260421T193744
SUMMARY:Flurreinigung der Schulen
URL;VALUE=URI:https://horn.gv.at
DESCRIPTION:
UID:20260421T193744-20240410T090000-20240410T100000
END:VEVENT
END:VCALENDAR