BEGIN:VCALENDAR
VERSION:2.0
PRODID:-//MediaDesign//MediaDesign.at//DE
CALSCALE:GREGORIAN
BEGIN:VEVENT
DTSTART:20240303T110000
DTEND:20240303T120000
LOCATION:Mödring
DTSTAMP:20260420T104625
SUMMARY:Fastensuppe der Pfarre Mdring
URL;VALUE=URI:https://horn.gv.at
DESCRIPTION:
UID:20260420T104625-20240303T110000-20240303T120000
END:VEVENT
END:VCALENDAR