BEGIN:VCALENDAR
VERSION:2.0
PRODID:-//MediaDesign//MediaDesign.at//DE
CALSCALE:GREGORIAN
BEGIN:VEVENT
DTSTART:20240406T093000
DTEND:20240406T103000
LOCATION:Wiener Str. 4\, 3580 Horn
DTSTAMP:20260421T151342
SUMMARY:Auf der Suche nach
URL;VALUE=URI:https://horn.gv.at
DESCRIPTION:dem schiefen Turm
UID:20260421T151342-20240406T093000-20240406T103000
END:VEVENT
END:VCALENDAR