BEGIN:VCALENDAR
VERSION:2.0
PRODID:-//MediaDesign//MediaDesign.at//DE
CALSCALE:GREGORIAN
BEGIN:VEVENT
DTSTART:20240413T090000
DTEND:20240413T100000
LOCATION:Hauptplatz
DTSTAMP:20260422T015431
SUMMARY:Regionalmarkt Horn
URL;VALUE=URI:https://horn.gv.at
DESCRIPTION:
UID:20260422T015431-20240413T090000-20240413T100000
END:VEVENT
END:VCALENDAR