BEGIN:VCALENDAR
VERSION:2.0
PRODID:-//MediaDesign//MediaDesign.at//DE
CALSCALE:GREGORIAN
BEGIN:VEVENT
DTSTART:20240309T090000
DTEND:20240309T100000
LOCATION:Hauptplatz
DTSTAMP:20260420T003554
SUMMARY:Regionalmarkt Horn
URL;VALUE=URI:https://horn.gv.at
DESCRIPTION:
UID:20260420T003554-20240309T090000-20240309T100000
END:VEVENT
END:VCALENDAR