BEGIN:VCALENDAR
VERSION:2.0
PRODID:-//MediaDesign//MediaDesign.at//DE
CALSCALE:GREGORIAN
BEGIN:VEVENT
DTSTART:20240308T130000
DTEND:20240308T140000
LOCATION:Wiener Straße 2\, 3580 Horn
DTSTAMP:20260420T041358
SUMMARY:Inklusiver ZumbaKurs
URL;VALUE=URI:https://horn.gv.at
DESCRIPTION:
UID:20260420T041358-20240308T130000-20240308T140000
END:VEVENT
END:VCALENDAR