BEGIN:VCALENDAR
VERSION:2.0
PRODID:-//MediaDesign//MediaDesign.at//DE
CALSCALE:GREGORIAN
BEGIN:VEVENT
DTSTART:20240225T110000
DTEND:20240225T120000
LOCATION:Thurnhofgasse 19
DTSTAMP:20260420T223013
SUMMARY:Fastensuppe der Pfarre Horn
URL;VALUE=URI:https://horn.gv.at
DESCRIPTION:Aktion Familienfasttag
UID:20260420T223013-20240225T110000-20240225T120000
END:VEVENT
END:VCALENDAR