BEGIN:VCALENDAR
VERSION:2.0
PRODID:-//MediaDesign//MediaDesign.at//DE
CALSCALE:GREGORIAN
BEGIN:VEVENT
DTSTART:20240408T173000
DTEND:20240408T183000
LOCATION:Bahnstraße 5
DTSTAMP:20260421T180930
SUMMARY:Suchtberatung
URL;VALUE=URI:https://horn.gv.at
DESCRIPTION:fr Menschen mit Alkoholproblemen 
UID:20260421T180930-20240408T173000-20240408T183000
END:VEVENT
END:VCALENDAR