BEGIN:VCALENDAR
VERSION:2.0
PRODID:-//MediaDesign//MediaDesign.at//DE
CALSCALE:GREGORIAN
BEGIN:VEVENT
DTSTART:20240304T173000
DTEND:20240304T183000
LOCATION:Bahnstraße 5
DTSTAMP:20260420T091129
SUMMARY:Suchtberatung
URL;VALUE=URI:https://horn.gv.at
DESCRIPTION:fr Menschen mit Alkoholproblemen 
UID:20260420T091129-20240304T173000-20240304T183000
END:VEVENT
END:VCALENDAR