BEGIN:VCALENDAR
VERSION:2.0
PRODID:-//MediaDesign//MediaDesign.at//DE
CALSCALE:GREGORIAN
BEGIN:VEVENT
DTSTART:20240305T160000
DTEND:20240305T170000
LOCATION:Wiener Straße 2\, 3580 Horn
DTSTAMP:20260420T072851
SUMMARY:Planausstellung 
URL;VALUE=URI:https://horn.gv.at
DESCRIPTION:Direktanbindung Horn
UID:20260420T072851-20240305T160000-20240305T170000
END:VEVENT
END:VCALENDAR