BEGIN:VCALENDAR
VERSION:2.0
PRODID:-//MediaDesign//MediaDesign.at//DE
CALSCALE:GREGORIAN
BEGIN:VEVENT
DTSTART:20240418T190000
DTEND:20240418T200000
LOCATION:Robert-Hamerling-Straße 9\, 3580 Horn
DTSTAMP:20260422T123721
SUMMARY:Kabarettabend
URL;VALUE=URI:https://horn.gv.at
DESCRIPTION:Volksbank  WV Beteiligung
UID:20260422T123721-20240418T190000-20240418T200000
END:VEVENT
END:VCALENDAR