BEGIN:VCALENDAR
VERSION:2.0
PRODID:-//MediaDesign//MediaDesign.at//DE
CALSCALE:GREGORIAN
BEGIN:VEVENT
DTSTART:20240312T183000
DTEND:20240312T193000
LOCATION:Thurnhofgasse 19\, 3580 Horn
DTSTAMP:20260419T171606
SUMMARY:Lichtbildvortrag
URL;VALUE=URI:https://horn.gv.at
DESCRIPTION:Georgien und Montenegro 
UID:20260419T171606-20240312T183000-20240312T193000
END:VEVENT
END:VCALENDAR