BEGIN:VCALENDAR
VERSION:2.0
PRODID:-//MediaDesign//MediaDesign.at//DE
CALSCALE:GREGORIAN
BEGIN:VEVENT
DTSTART:20240315T200000
DTEND:20240315T210000
LOCATION:Wiener Straße 2\, 3580 Horn
DTSTAMP:20260419T122647
SUMMARY:JazzW4horn
URL;VALUE=URI:https://horn.gv.at
DESCRIPTION:
UID:20260419T122647-20240315T200000-20240315T210000
END:VEVENT
END:VCALENDAR