BEGIN:VCALENDAR
VERSION:2.0
PRODID:-//MediaDesign//MediaDesign.at//DE
CALSCALE:GREGORIAN
BEGIN:VEVENT
DTSTART:20240419T200000
DTEND:20240419T210000
LOCATION:Wiener Straße 2\, 3580 Horn
DTSTAMP:20260422T165751
SUMMARY:Wanjo Banjo
URL;VALUE=URI:https://horn.gv.at
DESCRIPTION:FolkMusik vom Feinsten
UID:20260422T165751-20240419T200000-20240419T210000
END:VEVENT
END:VCALENDAR