BEGIN:VCALENDAR
VERSION:2.0
PRODID:-//MediaDesign//MediaDesign.at//DE
CALSCALE:GREGORIAN
BEGIN:VEVENT
DTSTART:20240421T083000
DTEND:20240421T093000
LOCATION:Kieselbreitengasse\, 3580 Horn
DTSTAMP:20260422T194642
SUMMARY:AVWanderung Welterbesteig
URL;VALUE=URI:https://horn.gv.at
DESCRIPTION:RossatzSeegraben
UID:20260422T194642-20240421T083000-20240421T093000
END:VEVENT
END:VCALENDAR