BEGIN:VCALENDAR
VERSION:2.0
PRODID:-//MediaDesign//MediaDesign.at//DE
CALSCALE:GREGORIAN
BEGIN:VEVENT
DTSTART:20240219T090000
DTEND:20240219T100000
LOCATION:Wiener Straße 2\, Taffasaal 2. Stock
DTSTAMP:20260421T101409
SUMMARY:Treffpunkt Tanz
URL;VALUE=URI:https://horn.gv.at
DESCRIPTION:Tanzen macht Spa und hlt Fit
UID:20260421T101409-20240219T090000-20240219T100000
END:VEVENT
END:VCALENDAR