BEGIN:VCALENDAR
VERSION:2.0
PRODID:-//MediaDesign//MediaDesign.at//DE
CALSCALE:GREGORIAN
BEGIN:VEVENT
DTSTART:20240226T160000
DTEND:20240226T170000
LOCATION:Wiener Straße 2\, Taffasaal 2. Stock
DTSTAMP:20260420T204525
SUMMARY:Treffpunkt Tanz
URL;VALUE=URI:https://horn.gv.at
DESCRIPTION:Tanzen macht Spa und hlt Fit
UID:20260420T204525-20240226T160000-20240226T170000
END:VEVENT
END:VCALENDAR