BEGIN:VCALENDAR
VERSION:2.0
PRODID:-//MediaDesign//MediaDesign.at//DE
CALSCALE:GREGORIAN
BEGIN:VEVENT
DTSTART:20240228T150000
DTEND:20240228T160000
LOCATION:Hopfengartenstraße 21\, 3580 Horn
DTSTAMP:20260420T190531
SUMMARY:Senioren SpieleCaf
URL;VALUE=URI:https://horn.gv.at
DESCRIPTION:
UID:20260420T190531-20240228T150000-20240228T160000
END:VEVENT
END:VCALENDAR