BEGIN:VCALENDAR
VERSION:2.0
PRODID:-//MediaDesign//MediaDesign.at//DE
CALSCALE:GREGORIAN
BEGIN:VEVENT
DTSTART:20240309T000000
DTEND:20240309T010000
LOCATION:Wiener Straße 2\, 3580 Horn
DTSTAMP:20260420T023848
SUMMARY:Ostermarkt im Kunsthaus Horn
URL;VALUE=URI:https://horn.gv.at
DESCRIPTION:
UID:20260420T023848-20240309T000000-20240309T010000
END:VEVENT
END:VCALENDAR