BEGIN:VCALENDAR
VERSION:2.0
PRODID:-//MediaDesign//MediaDesign.at//DE
CALSCALE:GREGORIAN
BEGIN:VEVENT
DTSTART:20240129T140000
DTEND:20240129T150000
LOCATION:Gartengasse 1\, 3580 Horn
DTSTAMP:20260422T042747
SUMMARY:Open Doors  Open House
URL;VALUE=URI:https://horn.gv.at
DESCRIPTION:Infotag der HLWFWEWF
UID:20260422T042747-20240129T140000-20240129T150000
END:VEVENT
END:VCALENDAR