BEGIN:VCALENDAR
VERSION:2.0
PRODID:-//MediaDesign//MediaDesign.at//DE
CALSCALE:GREGORIAN
BEGIN:VEVENT
DTSTART:20240129T160000
DTEND:20240129T170000
LOCATION:Wiener Straße 2\, Taffasaal 2. Stock
DTSTAMP:20260422T023822
SUMMARY:Treffpunkt Tanz
URL;VALUE=URI:https://horn.gv.at
DESCRIPTION:Tanzen macht Spa und hlt Fit
UID:20260422T023822-20240129T160000-20240129T170000
END:VEVENT
END:VCALENDAR