BEGIN:VCALENDAR
VERSION:2.0
PRODID:-//MediaDesign//MediaDesign.at//DE
CALSCALE:GREGORIAN
BEGIN:VEVENT
DTSTART:20240314T190000
DTEND:20240314T200000
LOCATION:3580 Horn\, Spitalgasse 10
DTSTAMP:20260419T152348
SUMMARY:Gruppentreffen
URL;VALUE=URI:https://horn.gv.at
DESCRIPTION:Selbsthilfegruppe Wolkenlos Horn
UID:20260419T152348-20240314T190000-20240314T200000
END:VEVENT
END:VCALENDAR