BEGIN:VCALENDAR
VERSION:2.0
PRODID:-//MediaDesign//MediaDesign.at//DE
CALSCALE:GREGORIAN
BEGIN:VEVENT
DTSTART:20240301T130000
DTEND:20240301T140000
LOCATION:Strommer Straße 26\, 3580 Horn
DTSTAMP:20260420T154214
SUMMARY:Tag der offenen Tr
URL;VALUE=URI:https://horn.gv.at
DESCRIPTION:Hrnchen Nest
UID:20260420T154214-20240301T130000-20240301T140000
END:VEVENT
END:VCALENDAR