BEGIN:VCALENDAR
VERSION:2.0
PRODID:-//MediaDesign//MediaDesign.at//DE
CALSCALE:GREGORIAN
BEGIN:VEVENT
DTSTART:20240229T170000
DTEND:20240229T180000
LOCATION:Canisiusgasse 1\, 3580 Horn
DTSTAMP:20260420T171930
SUMMARY:20 Jahre Schulprojekt
URL;VALUE=URI:https://horn.gv.at
DESCRIPTION:Weltladen und HLW 
UID:20260420T171930-20240229T170000-20240229T180000
END:VEVENT
END:VCALENDAR