BEGIN:VCALENDAR
VERSION:2.0
PRODID:-//MediaDesign//MediaDesign.at//DE
CALSCALE:GREGORIAN
BEGIN:VEVENT
DTSTART:20240220T180000
DTEND:20240220T190000
LOCATION:Bahnstraße 5\, 3580 Horn
DTSTAMP:20260421T052609
SUMMARY:Stammtisch fr pflegende Angehrige
URL;VALUE=URI:https://horn.gv.at
DESCRIPTION:
UID:20260421T052609-20240220T180000-20240220T190000
END:VEVENT
END:VCALENDAR