BEGIN:VCALENDAR
VERSION:2.0
PRODID:-//MediaDesign//MediaDesign.at//DE
CALSCALE:GREGORIAN
BEGIN:VEVENT
DTSTART:20240220T183000
DTEND:20240220T193000
LOCATION:Thurnhofgasse 19 A\, 3580 Horn
DTSTAMP:20260421T034704
SUMMARY:Informationsveranstaltung
URL;VALUE=URI:https://horn.gv.at
DESCRIPTION:Oikocredit
UID:20260421T034704-20240220T183000-20240220T193000
END:VEVENT
END:VCALENDAR