BEGIN:VCALENDAR
VERSION:2.0
PRODID:-//MediaDesign//MediaDesign.at//DE
CALSCALE:GREGORIAN
BEGIN:VEVENT
DTSTART:20240214T150000
DTEND:20240214T160000
LOCATION:Thurnhofgasse 19 A\, 3580 Horn
DTSTAMP:20260421T143258
SUMMARY:Kinderliturgie 
URL;VALUE=URI:https://horn.gv.at
DESCRIPTION:zum Beginn der Fastenzeit 
UID:20260421T143258-20240214T150000-20240214T160000
END:VEVENT
END:VCALENDAR