BEGIN:VCALENDAR
VERSION:2.0
PRODID:-//MediaDesign//MediaDesign.at//DE
CALSCALE:GREGORIAN
BEGIN:VEVENT
DTSTART:20240207T140000
DTEND:20240207T150000
LOCATION:Spitalgasse 10\, 3580 Horn
DTSTAMP:20260421T192535
SUMMARY:SHG Parkinson 
URL;VALUE=URI:https://horn.gv.at
DESCRIPTION:
UID:20260421T192535-20240207T140000-20240207T150000
END:VEVENT
END:VCALENDAR