BEGIN:VCALENDAR
VERSION:2.0
PRODID:-//MediaDesign//MediaDesign.at//DE
CALSCALE:GREGORIAN
BEGIN:VEVENT
DTSTART:20240203T090000
DTEND:20240203T100000
LOCATION:Pfarrgasse 7\, 3580 Horn
DTSTAMP:20260422T005845
SUMMARY:Faires Frhstck
URL;VALUE=URI:https://horn.gv.at
DESCRIPTION:
UID:20260422T005845-20240203T090000-20240203T100000
END:VEVENT
END:VCALENDAR