BEGIN:VCALENDAR
VERSION:2.0
PRODID:-//MediaDesign//MediaDesign.at//DE
CALSCALE:GREGORIAN
BEGIN:VEVENT
DTSTART:20240217T080000
DTEND:20240217T090000
LOCATION:3580 Horn
DTSTAMP:20260421T114525
SUMMARY:AVWanderung Sprgnitz
URL;VALUE=URI:https://horn.gv.at
DESCRIPTION:
UID:20260421T114525-20240217T080000-20240217T090000
END:VEVENT
END:VCALENDAR