BEGIN:VCALENDAR
VERSION:2.0
PRODID:-//MediaDesign//MediaDesign.at//DE
CALSCALE:GREGORIAN
BEGIN:VEVENT
DTSTART:20240317T090000
DTEND:20240317T100000
LOCATION:3580 Horn
DTSTAMP:20260419T110150
SUMMARY:AVWanderung Panoramaweg
URL;VALUE=URI:https://horn.gv.at
DESCRIPTION:RossatzbachSt Lorenz
UID:20260419T110150-20240317T090000-20240317T100000
END:VEVENT
END:VCALENDAR