BEGIN:VCALENDAR
VERSION:2.0
PRODID:-//MediaDesign//MediaDesign.at//DE
CALSCALE:GREGORIAN
BEGIN:VEVENT
DTSTART:20240225T090000
DTEND:20240225T100000
LOCATION:3580 Horn
DTSTAMP:20260421T000956
SUMMARY:AVWanderung Eggenburg
URL;VALUE=URI:https://horn.gv.at
DESCRIPTION:Schmidafall
UID:20260421T000956-20240225T090000-20240225T100000
END:VEVENT
END:VCALENDAR