BEGIN:VCALENDAR
VERSION:2.0
PRODID:-//MediaDesign//MediaDesign.at//DE
CALSCALE:GREGORIAN
BEGIN:VEVENT
DTSTART:20240310T090000
DTEND:20240310T100000
LOCATION:3580 Horn
DTSTAMP:20260419T230511
SUMMARY:AVWanderung Pulkautal
URL;VALUE=URI:https://horn.gv.at
DESCRIPTION:
UID:20260419T230511-20240310T090000-20240310T100000
END:VEVENT
END:VCALENDAR