BEGIN:VCALENDAR
VERSION:2.0
PRODID:-//MediaDesign//MediaDesign.at//DE
CALSCALE:GREGORIAN
BEGIN:VEVENT
DTSTART:20240204T080000
DTEND:20240204T090000
LOCATION:3580 Horn
DTSTAMP:20260421T232615
SUMMARY:AVWanderung Rosenburg
URL;VALUE=URI:https://horn.gv.at
DESCRIPTION:
UID:20260421T232615-20240204T080000-20240204T090000
END:VEVENT
END:VCALENDAR