BEGIN:VCALENDAR
VERSION:2.0
PRODID:-//MediaDesign//MediaDesign.at//DE
CALSCALE:GREGORIAN
BEGIN:VEVENT
DTSTART:20240216T181000
DTEND:20240216T191000
LOCATION:Altbachweg
DTSTAMP:20260421T130846
SUMMARY:SV Horn vs DSV Leoben
URL;VALUE=URI:https://horn.gv.at
DESCRIPTION:16 Runde Admiral 2 Liga
UID:20260421T130846-20240216T181000-20240216T191000
END:VEVENT
END:VCALENDAR