BEGIN:VCALENDAR
VERSION:2.0
PRODID:-//MediaDesign//MediaDesign.at//DE
CALSCALE:GREGORIAN
BEGIN:VEVENT
DTSTART:20240419T181000
DTEND:20240419T191000
LOCATION:Altbachweg
DTSTAMP:20260422T153644
SUMMARY:SV Horn vs SV Ried
URL;VALUE=URI:https://horn.gv.at
DESCRIPTION:24 Runde Admiral 2 Liga
UID:20260422T153644-20240419T181000-20240419T191000
END:VEVENT
END:VCALENDAR