BEGIN:VCALENDAR
VERSION:2.0
PRODID:-//MediaDesign//MediaDesign.at//DE
CALSCALE:GREGORIAN
BEGIN:VEVENT
DTSTART:20240405T181000
DTEND:20240405T191000
LOCATION:Altbachweg
DTSTAMP:20260421T101103
SUMMARY:SV Horn vs SV Lafnitz 
URL;VALUE=URI:https://horn.gv.at
DESCRIPTION:22 Runde Admiral 2 Liga 
UID:20260421T101103-20240405T181000-20240405T191000
END:VEVENT
END:VCALENDAR