BEGIN:VCALENDAR
VERSION:2.0
PRODID:-//MediaDesign//MediaDesign.at//DE
CALSCALE:GREGORIAN
BEGIN:VEVENT
DTSTART:20240315T181000
DTEND:20240315T191000
LOCATION:Altbachweg
DTSTAMP:20260419T134610
SUMMARY:SV Horn vs SV Stripfing
URL;VALUE=URI:https://horn.gv.at
DESCRIPTION:20 Runde Admiral 2 Liga
UID:20260419T134610-20240315T181000-20240315T191000
END:VEVENT
END:VCALENDAR