BEGIN:VCALENDAR
VERSION:2.0
PRODID:-//MediaDesign//MediaDesign.at//DE
CALSCALE:GREGORIAN
BEGIN:VEVENT
DTSTART:20240301T181000
DTEND:20240301T191000
LOCATION:Altbachweg
DTSTAMP:20260420T140215
SUMMARY:SV Horn vs Flyeralarm Admira
URL;VALUE=URI:https://horn.gv.at
DESCRIPTION:18 Runde Admiral 2 Liga 
UID:20260420T140215-20240301T181000-20240301T191000
END:VEVENT
END:VCALENDAR