BEGIN:VCALENDAR
VERSION:2.0
PRODID:-//MediaDesign//MediaDesign.at//DE
CALSCALE:GREGORIAN
BEGIN:VEVENT
DTSTART:20240413T130000
DTEND:20240413T140000
LOCATION:Frauenhofner Strasse 2
DTSTAMP:20260422T032044
SUMMARY:41 Horner Stadtlauf
URL;VALUE=URI:https://horn.gv.at
DESCRIPTION:
UID:20260422T032044-20240413T130000-20240413T140000
END:VEVENT
END:VCALENDAR