BEGIN:VCALENDAR
VERSION:2.0
PRODID:-//MediaDesign//MediaDesign.at//DE
CALSCALE:GREGORIAN
BEGIN:VEVENT
DTSTART:20230927T183000
DTEND:20230927T193000
LOCATION:Hotel Blie: Hamerlingstraße 17 / Ahornweg\, 3580 Horn
DTSTAMP:20260419T104356
SUMMARY:Yoga im Einklang mit dem Mond
URL;VALUE=URI:https://horn.gv.at
DESCRIPTION:Ruhiges Yoga mit Alice in Horn
UID:20260419T104356-20230927T183000-20230927T193000
END:VEVENT
END:VCALENDAR