BEGIN:VCALENDAR
VERSION:2.0
PRODID:-//MediaDesign//MediaDesign.at//DE
CALSCALE:GREGORIAN
BEGIN:VEVENT
DTSTART:20240223T160000
DTEND:20240223T170000
LOCATION:Canisiusgasse 1\, 3580 Horn
DTSTAMP:20260421T020523
SUMMARY:Ausbildung zumr Kinderbetreuerin
URL;VALUE=URI:https://horn.gv.at
DESCRIPTION:
UID:20260421T020523-20240223T160000-20240223T170000
END:VEVENT
END:VCALENDAR