BEGIN:VCALENDAR
VERSION:2.0
PRODID:-//MediaDesign//MediaDesign.at//DE
CALSCALE:GREGORIAN
BEGIN:VEVENT
DTSTART:20201022T200000
DTEND:20201022T210000
LOCATION:Thurnhofgasse 14\, 3580 Horn
DTSTAMP:20260419T220233
SUMMARY:I Am Greta
URL;VALUE=URI:https://horn.gv.at
DESCRIPTION:Dokumentation
UID:20260419T220233-20201022T200000-20201022T210000
END:VEVENT
END:VCALENDAR